BEGIN:VCALENDAR
VERSION:2.0
PRODID:-//NWBA - ECPv6.15.20//NONSGML v1.0//EN
CALSCALE:GREGORIAN
METHOD:PUBLISH
X-WR-CALNAME:NWBA
X-ORIGINAL-URL:https://blacksmith.org
X-WR-CALDESC:Events for NWBA
REFRESH-INTERVAL;VALUE=DURATION:PT1H
X-Robots-Tag:noindex
X-PUBLISHED-TTL:PT1H
BEGIN:VTIMEZONE
TZID:UTC
BEGIN:STANDARD
TZOFFSETFROM:+0000
TZOFFSETTO:+0000
TZNAME:UTC
DTSTART:20240101T000000
END:STANDARD
END:VTIMEZONE
BEGIN:VEVENT
DTSTART;TZID=UTC:20250714T000000
DTEND;TZID=UTC:20250725T000000
DTSTAMP:20260424T084409
CREATED:20250308T072429Z
LAST-MODIFIED:20250317T055954Z
UID:4240-1752451200-1753401600@blacksmith.org
SUMMARY:New Agrarian School Workshop - Tools for Farm and Garden with Jeffrey Funk
DESCRIPTION:Membership Required\n\n You must be a member to access this content. \nView Membership Levels \n\nAlready a member? Log in here
URL:https://blacksmith.org/event/new-agrarian-school-workshop-tools-for-farm-and-garden-with-jeffrey-funk/
LOCATION:New Agrarian School\, 990 McCaffery Rd\, Big Fork\, MT\, 59911\, United States
END:VEVENT
END:VCALENDAR