BEGIN:VCALENDAR
VERSION:2.0
PRODID:-//NWBA - ECPv6.15.20//NONSGML v1.0//EN
CALSCALE:GREGORIAN
METHOD:PUBLISH
X-ORIGINAL-URL:https://blacksmith.org
X-WR-CALDESC:Events for NWBA
REFRESH-INTERVAL;VALUE=DURATION:PT1H
X-Robots-Tag:noindex
X-PUBLISHED-TTL:PT1H
BEGIN:VTIMEZONE
TZID:UTC
BEGIN:STANDARD
TZOFFSETFROM:+0000
TZOFFSETTO:+0000
TZNAME:UTC
DTSTART:20240101T000000
END:STANDARD
END:VTIMEZONE
BEGIN:VEVENT
DTSTART;TZID=UTC:20250804T080000
DTEND;TZID=UTC:20250815T170000
DTSTAMP:20260424T090824
CREATED:20250308T072535Z
LAST-MODIFIED:20250317T055803Z
UID:4244-1754294400-1755277200@blacksmith.org
SUMMARY:New Agrarian School Workshop - Utensil Forging: Design and Refine with Anna Koplik
DESCRIPTION:Membership Required\n\n You must be a member to access this content. \nView Membership Levels \n\nAlready a member? Log in here
URL:https://blacksmith.org/event/new-agrarian-school-workshop-utensil-forging-design-and-refine-with-anna-koplik/
LOCATION:New Agrarian School\, 990 McCaffery Rd\, Big Fork\, MT\, 59911\, United States
END:VEVENT
BEGIN:VEVENT
DTSTART;TZID=UTC:20250816T080000
DTEND;TZID=UTC:20250816T160000
DTSTAMP:20260424T090824
CREATED:20250119T080756Z
LAST-MODIFIED:20250707T054702Z
UID:3538-1755331200-1755360000@blacksmith.org
SUMMARY:Mentoring Center Event: Derek Lanhart - Fundamentals of Blacksmithing
DESCRIPTION:Membership Required\n\n You must be a member to access this content. \nView Membership Levels \n\nAlready a member? Log in here
URL:https://blacksmith.org/event/mentoring-center-event-derek-lanhart-2/
LOCATION:Mentoring Center\, 1900 7th Avenue\, Longview\, WA\, 98632\, United States
END:VEVENT
BEGIN:VEVENT
DTSTART;TZID=UTC:20250818T080000
DTEND;TZID=UTC:20250822T170000
DTSTAMP:20260424T090824
CREATED:20250308T072732Z
LAST-MODIFIED:20250317T055719Z
UID:4246-1755504000-1755882000@blacksmith.org
SUMMARY:New Agrarian School Workshop - American Axes with Jeffrey Funk
DESCRIPTION:Membership Required\n\n You must be a member to access this content. \nView Membership Levels \n\nAlready a member? Log in here
URL:https://blacksmith.org/event/new-agrarian-school-workshop-american-axes-with-jeffrey-funk/
LOCATION:New Agrarian School\, 990 McCaffery Rd\, Big Fork\, MT\, 59911\, United States
END:VEVENT
BEGIN:VEVENT
DTSTART;TZID=UTC:20251003T080000
DTEND;TZID=UTC:20251005T170000
DTSTAMP:20260424T090824
CREATED:20250308T064218Z
LAST-MODIFIED:20250426T052525Z
UID:4213-1759478400-1759683600@blacksmith.org
SUMMARY:Swaptoberfest 2025
DESCRIPTION:Membership Required\n\n You must be a member to access this content. \nView Membership Levels \n\nAlready a member? Log in here
URL:https://blacksmith.org/event/swaptoberfest-2025/
LOCATION:Cowlitz County Fair\, 1900 7th Ave\, Longview\, WA\, 98632\, United States
END:VEVENT
BEGIN:VEVENT
DTSTART;VALUE=DATE:20260407
DTEND;VALUE=DATE:20260410
DTSTAMP:20260424T090824
CREATED:20251212T053542Z
LAST-MODIFIED:20260313T225403Z
UID:4938-1775520000-1775779199@blacksmith.org
SUMMARY:John Winer - 3-day Workshop
DESCRIPTION:Membership Required\n\n You must be a member to access this content. \nView Membership Levels \n\nAlready a member? Log in here
URL:https://blacksmith.org/event/john-winer-3-day-workshop/
LOCATION:Mentoring Center\, 1900 7th Avenue\, Longview\, WA\, 98632\, United States
END:VEVENT
BEGIN:VEVENT
DTSTART;VALUE=DATE:20260410
DTEND;VALUE=DATE:20260413
DTSTAMP:20260424T090824
CREATED:20250707T055842Z
LAST-MODIFIED:20260326T153458Z
UID:4577-1775779200-1776038399@blacksmith.org
SUMMARY:NWBA Spring Conference - Longview
DESCRIPTION:Membership Required\n\n You must be a member to access this content. \nView Membership Levels \n\nAlready a member? Log in here
URL:https://blacksmith.org/event/nwba-spring-conference-longview/
LOCATION:Mentoring Center\, 1900 7th Avenue\, Longview\, WA\, 98632\, United States
END:VEVENT
BEGIN:VEVENT
DTSTART;TZID=UTC:20261111T080000
DTEND;TZID=UTC:20261114T170000
DTSTAMP:20260424T090824
CREATED:20250308T065025Z
LAST-MODIFIED:20250426T052356Z
UID:4215-1794384000-1794675600@blacksmith.org
SUMMARY:2026 ABANA National Conference
DESCRIPTION:Membership Required\n\n You must be a member to access this content. \nView Membership Levels \n\nAlready a member? Log in here
URL:https://blacksmith.org/event/2026-abana-national-conference/
END:VEVENT
END:VCALENDAR