BEGIN:VCALENDAR
VERSION:2.0
PRODID:-//NWBA - ECPv6.15.20//NONSGML v1.0//EN
CALSCALE:GREGORIAN
METHOD:PUBLISH
X-ORIGINAL-URL:https://blacksmith.org
X-WR-CALDESC:Events for NWBA
REFRESH-INTERVAL;VALUE=DURATION:PT1H
X-Robots-Tag:noindex
X-PUBLISHED-TTL:PT1H
BEGIN:VTIMEZONE
TZID:UTC
BEGIN:STANDARD
TZOFFSETFROM:+0000
TZOFFSETTO:+0000
TZNAME:UTC
DTSTART:20250101T000000
END:STANDARD
END:VTIMEZONE
BEGIN:VEVENT
DTSTART;VALUE=DATE:20260407
DTEND;VALUE=DATE:20260410
DTSTAMP:20260424T000608
CREATED:20251212T053542Z
LAST-MODIFIED:20260313T225403Z
UID:4938-1775520000-1775779199@blacksmith.org
SUMMARY:John Winer - 3-day Workshop
DESCRIPTION:Membership Required\n\n You must be a member to access this content. \nView Membership Levels \n\nAlready a member? Log in here
URL:https://blacksmith.org/event/john-winer-3-day-workshop/
LOCATION:Mentoring Center\, 1900 7th Avenue\, Longview\, WA\, 98632\, United States
END:VEVENT
BEGIN:VEVENT
DTSTART;VALUE=DATE:20260410
DTEND;VALUE=DATE:20260413
DTSTAMP:20260424T000608
CREATED:20250707T055842Z
LAST-MODIFIED:20260326T153458Z
UID:4577-1775779200-1776038399@blacksmith.org
SUMMARY:NWBA Spring Conference - Longview
DESCRIPTION:Membership Required\n\n You must be a member to access this content. \nView Membership Levels \n\nAlready a member? Log in here
URL:https://blacksmith.org/event/nwba-spring-conference-longview/
LOCATION:Mentoring Center\, 1900 7th Avenue\, Longview\, WA\, 98632\, United States
END:VEVENT
BEGIN:VEVENT
DTSTART;TZID=UTC:20261111T080000
DTEND;TZID=UTC:20261114T170000
DTSTAMP:20260424T000608
CREATED:20250308T065025Z
LAST-MODIFIED:20250426T052356Z
UID:4215-1794384000-1794675600@blacksmith.org
SUMMARY:2026 ABANA National Conference
DESCRIPTION:Membership Required\n\n You must be a member to access this content. \nView Membership Levels \n\nAlready a member? Log in here
URL:https://blacksmith.org/event/2026-abana-national-conference/
END:VEVENT
END:VCALENDAR