BEGIN:VCALENDAR
VERSION:2.0
PRODID:-//NWBA - ECPv6.15.20//NONSGML v1.0//EN
CALSCALE:GREGORIAN
METHOD:PUBLISH
X-WR-CALNAME:NWBA
X-ORIGINAL-URL:https://blacksmith.org
X-WR-CALDESC:Events for NWBA
REFRESH-INTERVAL;VALUE=DURATION:PT1H
X-Robots-Tag:noindex
X-PUBLISHED-TTL:PT1H
BEGIN:VTIMEZONE
TZID:UTC
BEGIN:STANDARD
TZOFFSETFROM:+0000
TZOFFSETTO:+0000
TZNAME:UTC
DTSTART:20230101T000000
END:STANDARD
END:VTIMEZONE
BEGIN:VTIMEZONE
TZID:America/Los_Angeles
BEGIN:DAYLIGHT
TZOFFSETFROM:-0800
TZOFFSETTO:-0700
TZNAME:PDT
DTSTART:20230312T100000
END:DAYLIGHT
BEGIN:STANDARD
TZOFFSETFROM:-0700
TZOFFSETTO:-0800
TZNAME:PST
DTSTART:20231105T090000
END:STANDARD
BEGIN:DAYLIGHT
TZOFFSETFROM:-0800
TZOFFSETTO:-0700
TZNAME:PDT
DTSTART:20240310T100000
END:DAYLIGHT
BEGIN:STANDARD
TZOFFSETFROM:-0700
TZOFFSETTO:-0800
TZNAME:PST
DTSTART:20241103T090000
END:STANDARD
BEGIN:DAYLIGHT
TZOFFSETFROM:-0800
TZOFFSETTO:-0700
TZNAME:PDT
DTSTART:20250309T100000
END:DAYLIGHT
BEGIN:STANDARD
TZOFFSETFROM:-0700
TZOFFSETTO:-0800
TZNAME:PST
DTSTART:20251102T090000
END:STANDARD
END:VTIMEZONE
BEGIN:VEVENT
DTSTART;TZID=UTC:20241116T080000
DTEND;TZID=UTC:20241118T170000
DTSTAMP:20260424T160048
CREATED:20240930T051537Z
LAST-MODIFIED:20240930T051537Z
UID:1076-1731744000-1731949200@blacksmith.org
SUMMARY:Int. Blacksmithing at Old West Forge
DESCRIPTION:Membership Required\n\n You must be a member to access this content. \nView Membership Levels \n\nAlready a member? Log in here
URL:https://blacksmith.org/event/int-blacksmithing-at-old-west-forge/
LOCATION:WA
END:VEVENT
BEGIN:VEVENT
DTSTART;TZID=UTC:20241109T080000
DTEND;TZID=UTC:20241109T170000
DTSTAMP:20260424T160048
CREATED:20240930T051455Z
LAST-MODIFIED:20240930T051455Z
UID:1074-1731139200-1731171600@blacksmith.org
SUMMARY:Level B: Copper & Steel Ladle
DESCRIPTION:Membership Required\n\n You must be a member to access this content. \nView Membership Levels \n\nAlready a member? Log in here
URL:https://blacksmith.org/event/level-b-copper-steel-ladle/
LOCATION:WA
END:VEVENT
BEGIN:VEVENT
DTSTART;TZID=UTC:20241107T180000
DTEND;TZID=UTC:20241107T200000
DTSTAMP:20260424T160048
CREATED:20240930T051413Z
LAST-MODIFIED:20240930T051413Z
UID:1072-1731002400-1731009600@blacksmith.org
SUMMARY:NWBA Board Meeting
DESCRIPTION:Membership Required\n\n You must be a member to access this content. \nView Membership Levels \n\nAlready a member? Log in here
URL:https://blacksmith.org/event/nwba-board-meeting/
LOCATION:WA
END:VEVENT
BEGIN:VEVENT
DTSTART;TZID=America/Los_Angeles:20241025T090000
DTEND;TZID=America/Los_Angeles:20241027T120000
DTSTAMP:20260424T160048
CREATED:20240719T060203Z
LAST-MODIFIED:20240928T072819Z
UID:345-1729846800-1730030400@blacksmith.org
SUMMARY:Swaptoberfest 2024 NWBA Fall Conference
DESCRIPTION:Membership Required\n\n You must be a member to access this content. \nView Membership Levels \n\nAlready a member? Log in here
URL:https://blacksmith.org/event/swaptoberfest-nwba-fall-conference/
LOCATION:Mentoring Center\, 1900 7th Avenue\, Longview\, WA\, 98632\, United States
END:VEVENT
BEGIN:VEVENT
DTSTART;TZID=UTC:20241012T080000
DTEND;TZID=UTC:20241012T170000
DTSTAMP:20260424T160048
CREATED:20240930T051310Z
LAST-MODIFIED:20240930T051310Z
UID:1070-1728720000-1728752400@blacksmith.org
SUMMARY:Level C: Box Jaw Tongs
DESCRIPTION:Membership Required\n\n You must be a member to access this content. \nView Membership Levels \n\nAlready a member? Log in here
URL:https://blacksmith.org/event/level-c-box-jaw-tongs/
LOCATION:WA
END:VEVENT
BEGIN:VEVENT
DTSTART;TZID=America/Los_Angeles:20240912T190000
DTEND;TZID=America/Los_Angeles:20240912T200000
DTSTAMP:20260424T160048
CREATED:20240719T060049Z
LAST-MODIFIED:20240719T060049Z
UID:343-1726167600-1726171200@blacksmith.org
SUMMARY:Fireside Chat #48
DESCRIPTION:Membership Required\n\n You must be a member to access this content. \nView Membership Levels \n\nAlready a member? Log in here
URL:https://blacksmith.org/event/fireside-chat-48/
LOCATION:WA
END:VEVENT
BEGIN:VEVENT
DTSTART;TZID=UTC:20240824T090000
DTEND;TZID=UTC:20240824T160000
DTSTAMP:20260424T160048
CREATED:20240719T055941Z
LAST-MODIFIED:20240719T055941Z
UID:340-1724490000-1724515200@blacksmith.org
SUMMARY:Mentoring Center Event - Tim Smith
DESCRIPTION:Membership Required\n\n You must be a member to access this content. \nView Membership Levels \n\nAlready a member? Log in here
URL:https://blacksmith.org/event/mentoring-center-event-tim-smith/
LOCATION:Mentoring Center\, 1900 7th Avenue\, Longview\, WA\, 98632\, United States
END:VEVENT
BEGIN:VEVENT
DTSTART;TZID=UTC:20240814T080000
DTEND;TZID=UTC:20240818T170000
DTSTAMP:20260424T160048
CREATED:20240719T055718Z
LAST-MODIFIED:20240719T055718Z
UID:337-1723622400-1724000400@blacksmith.org
SUMMARY:Blacksmith Week
DESCRIPTION:Membership Required\n\n You must be a member to access this content. \nView Membership Levels \n\nAlready a member? Log in here
URL:https://blacksmith.org/event/blacksmith-week/
LOCATION:Cascadia Center for Arts and Crafts\, Government Camp\, OR\, 97028\, United States
END:VEVENT
BEGIN:VEVENT
DTSTART;TZID=America/Los_Angeles:20240808T190000
DTEND;TZID=America/Los_Angeles:20240808T200000
DTSTAMP:20260424T160048
CREATED:20240719T055428Z
LAST-MODIFIED:20240719T055428Z
UID:335-1723143600-1723147200@blacksmith.org
SUMMARY:Fireside Chat #47
DESCRIPTION:Membership Required\n\n You must be a member to access this content. \nView Membership Levels \n\nAlready a member? Log in here
URL:https://blacksmith.org/event/fireside-chat-47/
LOCATION:WA
END:VEVENT
BEGIN:VEVENT
DTSTART;VALUE=DATE:20240724
DTEND;VALUE=DATE:20240728
DTSTAMP:20260424T160048
CREATED:20240718T062540Z
LAST-MODIFIED:20240718T062540Z
UID:302-1721779200-1722124799@blacksmith.org
SUMMARY:Open Forge & Demos
DESCRIPTION:Membership Required\n\n You must be a member to access this content. \nView Membership Levels \n\nAlready a member? Log in here
URL:https://blacksmith.org/event/open-forge-demos/
LOCATION:Cowlitz County Fair\, 1900 7th Ave\, Longview\, WA\, 98632\, United States
END:VEVENT
END:VCALENDAR