BEGIN:VCALENDAR
VERSION:2.0
PRODID:-//NWBA - ECPv6.15.20//NONSGML v1.0//EN
CALSCALE:GREGORIAN
METHOD:PUBLISH
X-ORIGINAL-URL:https://blacksmith.org
X-WR-CALDESC:Events for NWBA
REFRESH-INTERVAL;VALUE=DURATION:PT1H
X-Robots-Tag:noindex
X-PUBLISHED-TTL:PT1H
BEGIN:VTIMEZONE
TZID:UTC
BEGIN:STANDARD
TZOFFSETFROM:+0000
TZOFFSETTO:+0000
TZNAME:UTC
DTSTART:20240101T000000
END:STANDARD
END:VTIMEZONE
BEGIN:VEVENT
DTSTART;TZID=UTC:20250508T190000
DTEND;TZID=UTC:20250508T200000
DTSTAMP:20260424T102550
CREATED:20250308T063318Z
LAST-MODIFIED:20250426T053839Z
UID:4203-1746730800-1746734400@blacksmith.org
SUMMARY:Fireside Chat
DESCRIPTION:Membership Required\n\n You must be a member to access this content. \nView Membership Levels \n\nAlready a member? Log in here
URL:https://blacksmith.org/event/fireside-chat-2/
END:VEVENT
BEGIN:VEVENT
DTSTART;TZID=UTC:20250510T080000
DTEND;TZID=UTC:20250510T170000
DTSTAMP:20260424T102550
CREATED:20250308T063510Z
LAST-MODIFIED:20250426T053805Z
UID:4205-1746864000-1746896400@blacksmith.org
SUMMARY:Spring Conference - Early Bird Online Registration Closes
DESCRIPTION:Membership Required\n\n You must be a member to access this content. \nView Membership Levels \n\nAlready a member? Log in here
URL:https://blacksmith.org/event/spring-conference-early-bird-online-registration-closes/
LOCATION:Mentoring Center\, 1900 7th Avenue\, Longview\, WA\, 98632\, United States
END:VEVENT
BEGIN:VEVENT
DTSTART;VALUE=DATE:20250525
DTEND;VALUE=DATE:20250526
DTSTAMP:20260424T102550
CREATED:20250512T035721Z
LAST-MODIFIED:20250512T035721Z
UID:4420-1748131200-1748217599@blacksmith.org
SUMMARY:Beginner's Blacksmith Workshop - Registration Closes
DESCRIPTION:Membership Required\n\n You must be a member to access this content. \nView Membership Levels \n\nAlready a member? Log in here
URL:https://blacksmith.org/event/beginners-blacksmith-workshop-registration-closes/
END:VEVENT
BEGIN:VEVENT
DTSTART;TZID=UTC:20250530T080000
DTEND;TZID=UTC:20250601T170000
DTSTAMP:20260424T102550
CREATED:20250105T055558Z
LAST-MODIFIED:20250522T212325Z
UID:3500-1748592000-1748797200@blacksmith.org
SUMMARY:Spring Conference 2025
DESCRIPTION:Membership Required\n\n You must be a member to access this content. \nView Membership Levels \n\nAlready a member? Log in here
URL:https://blacksmith.org/event/spring-conference-2025/
LOCATION:Mentoring Center\, 1900 7th Avenue\, Longview\, WA\, 98632\, United States
END:VEVENT
END:VCALENDAR